BEGIN:VCALENDAR
VERSION:2.0
PRODID:-//Smart Energy Consumer Collaborative - ECPv6.15.5//NONSGML v1.0//EN
CALSCALE:GREGORIAN
METHOD:PUBLISH
X-ORIGINAL-URL:https://smartenergycc.org
X-WR-CALDESC:Events for Smart Energy Consumer Collaborative
REFRESH-INTERVAL;VALUE=DURATION:PT1H
X-Robots-Tag:noindex
X-PUBLISHED-TTL:PT1H
BEGIN:VTIMEZONE
TZID:America/New_York
BEGIN:DAYLIGHT
TZOFFSETFROM:-0500
TZOFFSETTO:-0400
TZNAME:EDT
DTSTART:20260308T070000
END:DAYLIGHT
BEGIN:STANDARD
TZOFFSETFROM:-0400
TZOFFSETTO:-0500
TZNAME:EST
DTSTART:20261101T060000
END:STANDARD
END:VTIMEZONE
BEGIN:VEVENT
DTSTART;TZID=America/New_York:20260511T200000
DTEND;TZID=America/New_York:20260513T170000
DTSTAMP:20260425T074144
CREATED:20260209T180747Z
LAST-MODIFIED:20260209T180758Z
UID:34196-1778529600-1778691600@smartenergycc.org
SUMMARY:2026 PLMA Spring Conference
DESCRIPTION:The 2026 PLMA Spring Conference will offer real-world insights into flexible\nload management\, DERs as a grid resource\, flex load valuation\, equitable access through flex load\, decarbonization\, EV managed charging and more. We hope you’ll join us for exceptional peer-selected sessions\, plentiful networking and important insights into the evolving energy transition.
URL:https://smartenergycc.org/event/2026-plma-spring-conference/
LOCATION:JW Marriott Indianapolis\, 10 S West Street\, Indianapolis\, IN\, 46204\, United States
CATEGORIES:Speaking Event
END:VEVENT
BEGIN:VEVENT
DTSTART;TZID=America/New_York:20260512T190000
DTEND;TZID=America/New_York:20260513T170000
DTSTAMP:20260425T074144
CREATED:20260317T141035Z
LAST-MODIFIED:20260317T141035Z
UID:34305-1778612400-1778691600@smartenergycc.org
SUMMARY:WE3 East Summit 2026
DESCRIPTION:The WE3 East (North America) Summit 2026 brings the region’s energy and utility leadership together in Charlotte at the Duke Energy headquarters. Presented by SEW.AI and hosted by Duke Energy\, this invite-only leadership forum is designed for senior utility executives\, industry innovators and technology leaders across the U.S. East Coast. The summit focuses on practical dialogue\, peer exchange and collaboration around the priorities shaping the future of energy and water in the region.
URL:https://smartenergycc.org/event/we3-east-summit-2026/
LOCATION:TX
CATEGORIES:Partner Event
END:VEVENT
END:VCALENDAR