BEGIN:VCALENDAR
VERSION:2.0
PRODID:-//Smart Energy Consumer Collaborative - ECPv6.15.5//NONSGML v1.0//EN
CALSCALE:GREGORIAN
METHOD:PUBLISH
X-ORIGINAL-URL:https://smartenergycc.org
X-WR-CALDESC:Events for Smart Energy Consumer Collaborative
REFRESH-INTERVAL;VALUE=DURATION:PT1H
X-Robots-Tag:noindex
X-PUBLISHED-TTL:PT1H
BEGIN:VTIMEZONE
TZID:America/Los_Angeles
BEGIN:DAYLIGHT
TZOFFSETFROM:-0800
TZOFFSETTO:-0700
TZNAME:PDT
DTSTART:20260308T100000
END:DAYLIGHT
BEGIN:STANDARD
TZOFFSETFROM:-0700
TZOFFSETTO:-0800
TZNAME:PST
DTSTART:20261101T090000
END:STANDARD
END:VTIMEZONE
BEGIN:VEVENT
DTSTART;TZID=America/Los_Angeles:20260202T090000
DTEND;TZID=America/Los_Angeles:20260202T160000
DTSTAMP:20260419T092857
CREATED:20251010T172823Z
LAST-MODIFIED:20251010T172823Z
UID:33843-1770022800-1770048000@smartenergycc.org
SUMMARY:PLMA + SECC: Symposia on DERs and Customer Engagement
DESCRIPTION:New for 2026! Customer-sited DERs and load flexibility programs are increasingly essential to delivering reliable and affordable electricity. Join the Smart Energy Consumer Collaborative (SECC) and PLMA\, The Flexible Load Management Community\, as we explore two angles of the distributed\, flexible energy transition: customer engagement and grid management. With one registration\, we invite you to attend a combined keynote with utility leaders and an evening networking reception\, plus\, the option to pick-and-choose the sessions most relevant to you from two unique programs.
URL:https://smartenergycc.org/event/plma-secc-symposia-on-ders-and-customer-engagement/
LOCATION:San Diego Convention Center\, 111 W Harbor Drive\, San Diego\, CA\, 92101\, United States
CATEGORIES:Featured Event
END:VEVENT
BEGIN:VEVENT
DTSTART;TZID=America/Los_Angeles:20260223T083000
DTEND;TZID=America/Los_Angeles:20260226T123000
DTSTAMP:20260419T092857
CREATED:20251005T150523Z
LAST-MODIFIED:20260209T180402Z
UID:33805-1771835400-1772109000@smartenergycc.org
SUMMARY:AESP Annual 2026
DESCRIPTION:We are proud to be a community partner of AESP Annual 2026 in San Diego where the theme is “Simplifying energy. Amplifying impact”. As the energy landscape grows more complex – and the stakes get higher – this is where we come together to break down barriers\, align efforts and create solutions that connect customer action with grid needs and community goals with opportunity. Use code SECC50 to save $50 off your registration.
URL:https://smartenergycc.org/event/aesp-annual-2026/
LOCATION:Manchester Grand Hyatt San Diego\, 1 Market Place\, San Diego\, CA\, 92101\, United States
CATEGORIES:Partner Event
END:VEVENT
END:VCALENDAR